BEGIN:VCALENDAR
VERSION:2.0
PRODID:-//Palm Beach County Sports Commission
 //NONSGML Events //EN
CALSCALE:GREGORIAN
X-WR-CALNAME:Palm Beach County Sports Commission
BEGIN:VEVENT
CREATED:20230911T190500Z
UID:PBC-Sports-Event-57130
DTEND;VALUE=DATE:20231210T000000
DTSTART;VALUE=DATE:20231209T000000
DTSTAMP:20260421T084300Z
LOCATION:650 Okeechobee Blvd\, \, FL 33401
DESCRIPTION:
SUMMARY:National Pickleball Expo &#038\; Tournament
ORGANIZER:Palm Beach County Sports Commission
URL;VALUE=URI:https://www.palmbeachsports.com/events/national-pickleball-expo-tournament-2/
TRANSP:OPAQUE
END:VEVENT
END:VCALENDAR
