BEGIN:VCALENDAR
VERSION:2.0
PRODID:-//Palm Beach County Sports Commission
 //NONSGML Events //EN
CALSCALE:GREGORIAN
X-WR-CALNAME:Palm Beach County Sports Commission
BEGIN:VEVENT
CREATED:20260206T155230Z
UID:PBC-Sports-Event-59811
DTEND;VALUE=DATE:20260322T000000
DTSTART;VALUE=DATE:20260320T000000
DTSTAMP:20260421T082658Z
LOCATION:11700 Pierson Rd\, \, FL 33414
DESCRIPTION:
SUMMARY:2026 7v7 Sandlot Pro-Am Challenge
ORGANIZER:Palm Beach County Sports Commission
URL;VALUE=URI:https://www.palmbeachsports.com/events/2026-7v7-sandlot-pro-am-challenge/
TRANSP:OPAQUE
END:VEVENT
END:VCALENDAR
